Workbook

Sheet PNF
A1: PNF | C1: 46285 | D1: 46292 | E1: 46299 | F1: 46306 | G1: 46313 | H1: 46334 | I1: 46341 | J1: 46348 | K1: 46355 | L1: 46362 | M1: 46369 | N1: 46032 | O1: 46039 | P1: 46046 | Q1: 46060 | R1: 46067 | S1: 46074 | T1: 46095 | U1: 46102 | V1: 46116 | W1: 46123 | X1: 46130 | Y1: Total | Z1: ACCUEIL | AK1: M | AL1: PUBLIC | AX1: M | AY1: Géneral
A2: AS JOCONDIEN 2 | C2: 1 | D2: 1 | E2: 1 | F2: 1 | G2: 1 | H2: 1 | I2: 1 | J2: 1 | K2: 1 | L2: 1 | M2: 1 | N2: 1 | O2: 1 | P2: 1 | Q2: 1 | R2: 1 | S2: 1 | T2: 1 | U2: 1 | V2: 1 | W2: 1 | X2: 1 | Y2: =SUM(B2:X2) -> 22 | AK2: =AVERAGE(Z2:AJ2) -> #DIV/0! | AX2: =AVERAGE(AL2:AW2) -> #DIV/0! | AY2: =Y2+AK2+AX2 -> #DIV/0!
A3: USM OLIVET 1 | Y3: =SUM(B3:X3) -> 0 | AK3: =AVERAGE(Z3:AJ3) -> #DIV/0! | AX3: =AVERAGE(AL3:AW3) -> #DIV/0! | AY3: =Y3+AK3+AX3 -> #DIV/0!
A4: IE - ADA BLOIS 41-1 | Y4: =SUM(B4:X4) -> 0 | AK4: =AVERAGE(Z4:AJ4) -> #DIV/0! | AX4: =AVERAGE(AL4:AW4) -> #DIV/0! | AY4: =Y4+AK4+AX4 -> #DIV/0!
A5: IE-CTC ASPTT CHATEAUROUX -LE POINCONNET 2 | Y5: =SUM(B5:X5) -> 0 | AK5: =AVERAGE(Z5:AJ5) -> #DIV/0! | AX5: =AVERAGE(AL5:AW5) -> #DIV/0! | AY5: =Y5+AK5+AX5 -> #DIV/0! | AZ5: R
A6: USM SARAN 2 | Y6: =SUM(B6:X6) -> 0 | AK6: =AVERAGE(Z6:AJ6) -> #DIV/0! | AX6: =AVERAGE(AL6:AW6) -> #DIV/0! | AY6: =Y6+AK6+AX6 -> #DIV/0!
A7: IE-CTC MSV BASKET TOURAINE 1 | Y7: =SUM(B7:X7) -> 0 | AK7: =AVERAGE(Z7:AJ7) -> #DIV/0! | AX7: =AVERAGE(AL7:AW7) -> #DIV/0! | AY7: =Y7+AK7+AX7 -> #DIV/0! | AZ7: R
A8: AS MONTS 1 | Y8: =SUM(B8:X8) -> 0 | AK8: =AVERAGE(Z8:AJ8) -> #DIV/0! | AX8: =AVERAGE(AL8:AW8) -> #DIV/0! | AY8: =Y8+AK8+AX8 -> #DIV/0! | AZ8: R
A9: CS BOURGES 1 | Y9: =SUM(B9:X9) -> 0 | AK9: =AVERAGE(Z9:AJ9) -> #DIV/0! | AX9: =AVERAGE(AL9:AW9) -> #DIV/0! | AY9: =Y9+AK9+AX9 -> #DIV/0!
A10: CES TOURS 1 | Y10: =SUM(B10:X10) -> 0 | AK10: =AVERAGE(Z10:AJ10) -> #DIV/0! | AX10: =AVERAGE(AL10:AW10) -> #DIV/0! | AY10: =Y10+AK10+AX10 -> #DIV/0! | AZ10: R
A11: CJMB BOURGES 3 | Y11: =SUM(B11:X11) -> 0 | AK11: =AVERAGE(Z11:AJ11) -> #DIV/0! | AX11: =AVERAGE(AL11:AW11) -> #DIV/0! | AY11: =Y11+AK11+AX11 -> #DIV/0! | AZ11: R
A12: IE - CTC AVENIR LOIRE BASKET 37-1 | Y12: =SUM(B12:X12) -> 0 | AK12: =AVERAGE(Z12:AJ12) -> #DIV/0! | AX12: =AVERAGE(AL12:AW12) -> #DIV/0! | AY12: =Y12+AK12+AX12 -> #DIV/0!
Y13: =SUM(B13:X13) -> 0 | AK13: =AVERAGE(Z13:AJ13) -> #DIV/0! | AX13: =AVERAGE(AL13:AW13) -> #DIV/0! | AY13: =Y13+AK13+AX13 -> #DIV/0!
Y14: =SUM(B14:X14) -> 0

Sheet RF2
A1: RF2 | C1: 46285 | D1: 46292 | E1: 46299 | F1: 46306 | G1: 46313 | H1: 46334 | I1: 46341 | J1: 46348 | K1: 46355 | L1: 46362 | M1: 46369 | N1: 46032 | O1: 46039 | P1: 46046 | Q1: 46060 | R1: 46067 | S1: 46074 | T1: 46095 | U1: 46102 | V1: 46116 | W1: 46123 | X1: 46130 | AB1: Total | AC1: ACCUEIL | AN1: M | AO1: PUBLIC | BA1: M | BB1: Géneral
A2: ORLEANS LBA 1 | AB2: =SUM(B2:AA2) -> 0 | AN2: =AVERAGE(AC2:AM2) -> #DIV/0! | BA2: =AVERAGE(AO2:AZ2) -> #DIV/0! | BB2: =AB2+AN2+BA2 -> #DIV/0!
A3: USM OLIVET - 2 | AB3: =SUM(B3:AA3) -> 0 | AN3: =AVERAGE(AC3:AM3) -> #DIV/0! | BA3: =AVERAGE(AO3:AZ3) -> #DIV/0! | BB3: =AB3+AN3+BA3 -> #DIV/0! | BC3: R
A4: A C AMBOISE NAZELLES - 1 | AB4: =SUM(B4:AA4) -> 0 | AN4: =AVERAGE(AC4:AM4) -> #DIV/0! | BA4: =AVERAGE(AO4:AZ4) -> #DIV/0! | BB4: =AB4+AN4+BA4 -> #DIV/0!
A5: IE - CTC AVENIR LOIRE BASKET 37 - ESO 1 | AB5: =SUM(B5:AA5) -> 0 | AN5: =AVERAGE(AC5:AM5) -> #DIV/0! | BA5: =AVERAGE(AO5:AZ5) -> #DIV/0! | BB5: =AB5+AN5+BA5 -> #DIV/0! | BC5: R
A6: EVEIL SPORTIF D'ORMES BASKET BALL - 1 | AB6: =SUM(B6:AA6) -> 0 | AN6: =AVERAGE(AC6:AM6) -> #DIV/0! | BA6: =AVERAGE(AO6:AZ6) -> #DIV/0! | BB6: =AB6+AN6+BA6 -> #DIV/0!
A7: IE - CTC BLT45 - BOIGNY BC - 2 | AB7: =SUM(B7:AA7) -> 0 | AN7: =AVERAGE(AC7:AM7) -> #DIV/0! | BA7: =AVERAGE(AO7:AZ7) -> #DIV/0! | BB7: =AB7+AN7+BA7 -> #DIV/0!
A8: ALLIANCE DREUX 1 | AB8: =SUM(B8:AA8) -> 0 | AN8: =AVERAGE(AC8:AM8) -> #DIV/0! | BA8: =AVERAGE(AO8:AZ8) -> #DIV/0! | BB8: =AB8+AN8+BA8 -> #DIV/0! | BC8: R
A9: ES BOURGUEIL 1 | AB9: =SUM(B9:AA9) -> 0 | AN9: =AVERAGE(AC9:AM9) -> #DIV/0! | BA9: =AVERAGE(AO9:AZ9) -> #DIV/0! | BB9: =AB9+AN9+BA9 -> #DIV/0! | BC9: R
A10: IE-CTC NECOTIN-ST JEAN LE BLANC BAKET-1 | AB10: =SUM(B10:AA10) -> 0 | AN10: =AVERAGE(AC10:AM10) -> #DIV/0! | BA10: =AVERAGE(AO10:AZ10) -> #DIV/0! | BB10: =AB10+AN10+BA10 -> #DIV/0! | BC10: R
A11: IE - CTC ASPTT CHATEAUROUX - LE POINÇONNET BASKET - 1 | AB11: =SUM(B11:AA11) -> 0 | AN11: =AVERAGE(AC11:AM11) -> #DIV/0! | BA11: =AVERAGE(AO11:AZ11) -> #DIV/0! | BB11: =AB11+AN11+BA11 -> #DIV/0!
A12: SMS ROMORANTIN - 1 | AB12: =SUM(B12:AA12) -> 0 | AN12: =AVERAGE(AC12:AM12) -> #DIV/0! | BA12: =AVERAGE(AO12:AZ12) -> #DIV/0! | BB12: =AB12+AN12+BA12 -> #DIV/0!
AB13: =SUM(B13:AA13) -> 0 | AN13: =AVERAGE(AC13:AM13) -> #DIV/0! | BA13: =AVERAGE(AO13:AZ13) -> #DIV/0! | BB13: =AB13+AN13+BA13 -> #DIV/0! | BC13: R
C14: 1 | AB14: =SUM(B14:AA14) -> 1 | AN14: =AVERAGE(AC14:AM14) -> #DIV/0! | BA14: =AVERAGE(AO14:AZ14) -> #DIV/0! | BB14: =AB14+AN14+BA14 -> #DIV/0!
AB15: =SUM(B15:AA15) -> 0 | AN15: =AVERAGE(AC15:AM15) -> #DIV/0! | BA15: =AVERAGE(AO15:AZ15) -> #DIV/0! | BB15: =AB15+AN15+BA15 -> #DIV/0!
AC17: 1 | AD17: 2 | AE17: 3 | AF17: 4 | AG17: 5 | AH17: 6 | AI17: 7 | AJ17: 8 | AK17: 9 | AL17: 11 | AM17: 12 | AO17: 1 | AP17: 2 | AQ17: 3 | AR17: 4 | AS17: 5 | AT17: 6 | AU17: 7 | AV17: 8 | AW17: 9 | AX17: 11 | AY17: 12

Sheet PNM
A1: PNM | C1: 46277 | D1: 46284 | E1: 46291 | F1: 46298 | G1: 46305 | H1: 46312 | I1: 46333 | J1: 46340 | K1: 46347 | L1: 46354 | M1: 46361 | N1: 46368 | O1: 46375 | P1: 46031 | Q1: 46038 | R1: 46045 | S1: 46052 | T1: 46059 | U1: 46066 | V1: 46073 | W1: 46094 | X1: 46101 | Y1: 46115 | Z1: 46122 | AA1: 46129 | AB1: 46136 | AC1: Total | AD1: ACCUEIL | AO1: M | AP1: PUBLIC | BB1: M | BC1: Géneral
A2: ST DOULCHARD BASKET BALL - 1 | AC2: =SUM(B2:AB2) -> 0 | AO2: =AVERAGE(AD2:AN2) -> #DIV/0! | BB2: =AVERAGE(AP2:BA2) -> #DIV/0! | BC2: =AC2+AO2+BB2 -> #DIV/0!
A3: IE - ADA BLOIS BASKET 41 - 2 | AC3: =SUM(B3:AB3) -> 0 | AO3: =AVERAGE(AD3:AN3) -> #DIV/0! | BB3: =AVERAGE(AP3:BA3) -> #DIV/0! | BC3: =AC3+AO3+BB3 -> #DIV/0!
A4: BOIGNY BC 1 | AC4: =SUM(B4:AB4) -> 0 | AO4: =AVERAGE(AD4:AN4) -> #DIV/0! | BB4: =AVERAGE(AP4:BA4) -> #DIV/0! | BC4: =AC4+AO4+BB4 -> #DIV/0! | BD4: R
A5: CMPJM INGRE BASKET - 1 | AC5: =SUM(B5:AB5) -> 0 | AO5: =AVERAGE(AD5:AN5) -> #DIV/0! | BB5: =AVERAGE(AP5:BA5) -> #DIV/0! | BC5: =AC5+AO5+BB5 -> #DIV/0!
A6: BARJOUVILLE BASKET 1 | AC6: =SUM(B6:AB6) -> 0 | AO6: =AVERAGE(AD6:AN6) -> #DIV/0! | BB6: =AVERAGE(AP6:BA6) -> #DIV/0! | BC6: =AC6+AO6+BB6 -> #DIV/0! | BD6: R
A7: ABC SAINT JEAN DE BRAYE 45 - 1 | AC7: =SUM(B7:AB7) -> 0 | AO7: =AVERAGE(AD7:AN7) -> #DIV/0! | BB7: =AVERAGE(AP7:BA7) -> #DIV/0! | BC7: =AC7+AO7+BB7 -> #DIV/0! | BD7: R
A8: ORLEANS LOIRET BA - 2 | AC8: =SUM(B8:AB8) -> 0 | AO8: =AVERAGE(AD8:AN8) -> #DIV/0! | BB8: =AVERAGE(AP8:BA8) -> #DIV/0! | BC8: =AC8+AO8+BB8 -> #DIV/0! | BD8: R
A9: IE-CTC MSV BASKET TOURAINE-1 | AC9: =SUM(B9:AB9) -> 0 | AO9: =AVERAGE(AD9:AN9) -> #DIV/0! | BB9: =AVERAGE(AP9:BA9) -> #DIV/0! | BC9: =AC9+AO9+BB9 -> #DIV/0!
A10: TOURAINE BC - 2 | AC10: =SUM(B10:AB10) -> 0 | AO10: =AVERAGE(AD10:AN10) -> #DIV/0! | BB10: =AVERAGE(AP10:BA10) -> #DIV/0! | BC10: =AC10+AO10+BB10 -> #DIV/0! | BD10: R
A11: USM OLIVET - 1 | AC11: =SUM(B11:AB11) -> 0 | AO11: =AVERAGE(AD11:AN11) -> #DIV/0! | BB11: =AVERAGE(AP11:BA11) -> #DIV/0! | BC11: =AC11+AO11+BB11 -> #DIV/0!
A12: TOURS METROPOLE BASKET PLLL - 3 | AC12: =SUM(B12:AB12) -> 0 | AO12: =AVERAGE(AD12:AN12) -> #DIV/0! | BB12: =AVERAGE(AP12:BA12) -> #DIV/0! | BC12: =AC12+AO12+BB12 -> #DIV/0!
A13: ES ORMES - 1 | AC13: =SUM(B13:AB13) -> 0 | AO13: =AVERAGE(AD13:AN13) -> #DIV/0! | BB13: =AVERAGE(AP13:BA13) -> #DIV/0! | BC13: =AC13+AO13+BB13 -> #DIV/0!
A14: FJ CHAMPHOL 1 | AC14: =SUM(B14:AB14) -> 0 | AO14: =AVERAGE(AD14:AN14) -> #DIV/0! | BB14: =AVERAGE(AP14:BA14) -> #DIV/0! | BC14: =AC14+AO14+BB14 -> #DIV/0!
AC15: =SUM(B15:AB15) -> 0 | AO15: =AVERAGE(AD15:AN15) -> #DIV/0! | BB15: =AVERAGE(AP15:BA15) -> #DIV/0! | BC15: =AC15+AO15+BB15 -> #DIV/0! | BD15: R

Sheet RM2
A1: RM2 | B1: 46285 | C1: 46292 | D1: 46299 | E1: 46306 | F1: 46313 | G1: 46334 | H1: 46341 | I1: 46348 | J1: 46355 | K1: 46362 | L1: 46369 | M1: 46032 | N1: 46039 | O1: 46046 | P1: 46060 | Q1: 46067 | R1: 46074 | S1: 46095 | T1: 46102 | U1: 46116 | V1: 46123 | W1: 46130 | X1: Total | Y1: ACCUEIL | AJ1: M | AK1: PUBLIC | AW1: M | AX1: Géneral
A2: AS JOCONDIEN - 1 | X2: =SUM(B2:W2) -> 0 | AJ2: =AVERAGE(Y2:AI2) -> #DIV/0! | AX2: =X2+AJ2+AW2 -> #DIV/0! | AY2: R
A3: C'CHARTRES BASKET M - 3 | X3: =SUM(B3:W3) -> 0 | AJ3: =AVERAGE(Y3:AI3) -> #DIV/0! | AX3: =X3+AJ3+AW3 -> #DIV/0! | AY3: R
A4: ASPTT CHATEAUROUX 1 | X4: =SUM(B4:W4) -> 0 | AJ4: =AVERAGE(Y4:AI4) -> #DIV/0! | AX4: =X4+AJ4+AW4 -> #DIV/0!
A5: ORLEANS LOIRET BASKET ASSO - 3 | X5: =SUM(B5:W5) -> 0 | AJ5: =AVERAGE(Y5:AI5) -> #DIV/0! | AX5: =X5+AJ5+AW5 -> #DIV/0! | AY5: R
A6: IE - VINEUIL SPORTS BASKET - 2 | X6: =SUM(B6:W6) -> 0 | AJ6: =AVERAGE(Y6:AI6) -> #DIV/0! | AX6: =X6+AJ6+AW6 -> #DIV/0!
A7: AMICALE LUCE - 1 | X7: =SUM(B7:W7) -> 0 | AJ7: =AVERAGE(Y7:AI7) -> #DIV/0! | AX7: =X7+AJ7+AW7 -> #DIV/0!
A8: IE-CTC CHATEAUDUN BASKET SUD 28-1 | X8: =SUM(B8:W8) -> 0 | AJ8: =AVERAGE(Y8:AI8) -> #DIV/0! | AX8: =X8+AJ8+AW8 -> #DIV/0!
A9: ALLIANCE DREUX 1 | X9: =SUM(B9:W9) -> 0 | AJ9: =AVERAGE(Y9:AI9) -> #DIV/0! | AX9: =X9+AJ9+AW9 -> #DIV/0!
A10: US SAINT PIERRE DES CORPS - 1 | X10: =SUM(B10:W10) -> 0 | AJ10: =AVERAGE(Y10:AI10) -> #DIV/0! | AX10: =X10+AJ10+AW10 -> #DIV/0!
A11: AMICALE NEUVILLE AUX BOIS 1 | X11: =SUM(B11:W11) -> 0 | AJ11: =AVERAGE(Y11:AI11) -> #DIV/0! | AX11: =X11+AJ11+AW11 -> #DIV/0!
A12: CJF LES AUBRAIS 2 | X12: =SUM(B12:W12) -> 0 | AJ12: =AVERAGE(Y12:AI12) -> #DIV/0! | AX12: =X12+AJ12+AW12 -> #DIV/0! | AY12: R
A13: AS FONDETTES 2 | X13: =SUM(B13:W13) -> 0 | AJ13: =AVERAGE(Y13:AI13) -> #DIV/0! | AW13: =AVERAGE(AK13:AV13) -> #DIV/0! | AX13: =X13+AJ13+AW13 -> #DIV/0!

Sheet RM3A
A1: RM3 A | B1: 46285 | C1: 46292 | D1: 46299 | E1: 46306 | F1: 46313 | G1: 46334 | H1: 46341 | I1: 46348 | J1: 46355 | K1: 46362 | L1: 46369 | M1: 46032 | N1: 46039 | O1: 46046 | X1: Total | Y1: ACCUEIL | AJ1: M | AK1: PUBLIC | AW1: M | AX1: Géneral
A2: AS JOCONDIEN 2 | X2: =SUM(B2:W2) -> 0 | AJ2: =AVERAGE(Y2:AI2) -> #DIV/0! | AW2: =AVERAGE(AK2:AV2) -> #DIV/0! | AX2: =X2+AJ2+AW2 -> #DIV/0!
A3: USM OLIVET 2 | X3: =SUM(B3:W3) -> 0 | AJ3: =AVERAGE(Y3:AI3) -> #DIV/0! | AW3: =AVERAGE(AK3:AV3) -> #DIV/0! | AX3: =X3+AJ3+AW3 -> #DIV/0!
A4: AL SAINT OUEN BASKET - 1 | X4: =SUM(B4:W4) -> 0 | AJ4: =AVERAGE(Y4:AI4) -> #DIV/0! | AW4: =AVERAGE(AK4:AV4) -> #DIV/0! | AX4: =X4+AJ4+AW4 -> #DIV/0! | AY4: R
A5: CMPJM INGRE BASKET - 2 | X5: =SUM(B5:W5) -> 0 | AJ5: =AVERAGE(Y5:AI5) -> #DIV/0! | AW5: =AVERAGE(AK5:AV5) -> #DIV/0! | AX5: =X5+AJ5+AW5 -> #DIV/0! | AY5: R
A6: LA MONTJOIE ST DENIS EN VAL 1 | X6: =SUM(B6:W6) -> 0 | AJ6: =AVERAGE(Y6:AI6) -> #DIV/0! | AW6: =AVERAGE(AK6:AV6) -> #DIV/0! | AX6: =X6+AJ6+AW6 -> #DIV/0!
A7: ASJ LA CHAUSSEE ST VICTOR 1 | X7: =SUM(B7:W7) -> 0 | AJ7: =AVERAGE(Y7:AI7) -> #DIV/0! | AW7: =AVERAGE(AK7:AV7) -> #DIV/0! | AX7: =X7+AJ7+AW7 -> #DIV/0! | AY7: R
A8: IE-CTC DEOLS ETRECHET ST MAUR 1 | X8: =SUM(B8:W8) -> 0 | AJ8: =AVERAGE(Y8:AI8) -> #DIV/0! | AW8: =AVERAGE(AK8:AV8) -> #DIV/0! | AX8: =X8+AJ8+AW8 -> #DIV/0!
A9: ST DOULCHARD 2 | X9: =SUM(B9:W9) -> 0 | AJ9: =AVERAGE(Y9:AI9) -> #DIV/0! | AW9: =AVERAGE(AK9:AV9) -> #DIV/0! | AX9: =X9+AJ9+AW9 -> #DIV/0! | AY9: FFG
X10: =SUM(B10:W10) -> 0 | AJ10: =AVERAGE(Y10:AI10) -> #DIV/0! | AW10: =AVERAGE(AK10:AV10) -> #DIV/0! | AX10: =X10+AJ10+AW10 -> #DIV/0!
X11: =SUM(B11:W11) -> 0 | AJ11: =AVERAGE(Y11:AI11) -> #DIV/0! | AW11: =AVERAGE(AK11:AV11) -> #DIV/0! | AX11: =X11+AJ11+AW11 -> #DIV/0!
X12: =SUM(B12:W12) -> 0 | AJ12: =AVERAGE(Y12:AI12) -> #DIV/0! | AW12: =AVERAGE(AK12:AV12) -> #DIV/0! | AX12: =X12+AJ12+AW12 -> #DIV/0!
X13: =SUM(B13:W13) -> 0 | AJ13: =AVERAGE(Y13:AI13) -> #DIV/0! | AW13: =AVERAGE(AK13:AV13) -> #DIV/0! | AX13: =X13+AJ13+AW13 -> #DIV/0!
Y15: 1 | Z15: 2 | AA15: 3 | AB15: 4 | AC15: 5 | AD15: 6 | AE15: 7 | AF15: 8 | AK15: 1 | AL15: 2 | AM15: 3 | AN15: 4 | AO15: 5 | AP15: 6 | AQ15: 7 | AR15: 8

Sheet RM3 B
A1: RM3 B | B1: 46285 | C1: 46292 | D1: 46299 | E1: 46306 | F1: 46313 | G1: 46334 | H1: 46341 | I1: 46348 | J1: 46355 | K1: 46362 | L1: 46369 | M1: 46032 | N1: 46039 | O1: 46046 | Y1: ACCUEIL | AJ1: M | AK1: PUBLIC | AW1: M | AX1: Géneral
A2: TRAINOU AS - 1 | X2: =SUM(B2:W2) -> 0 | AJ2: =AVERAGE(Y2:AI2) -> #DIV/0! | AW2: =AVERAGE(AK2:AV2) -> #DIV/0! | AX2: =X2+AJ2+AW2 -> #DIV/0! | AY2: R
A3: ES BOURGUEIL - 1 | X3: =SUM(B3:W3) -> 0 | AJ3: =AVERAGE(Y3:AI3) -> #DIV/0! | AW3: =AVERAGE(AK3:AV3) -> #DIV/0! | AX3: =X3+AJ3+AW3 -> #DIV/0! | AY3: R
A4: IE-ADA BLOIS 41-3 | X4: =SUM(B4:W4) -> 0 | AJ4: =AVERAGE(Y4:AI4) -> #DIV/0! | AW4: =AVERAGE(AK4:AV4) -> #DIV/0! | AX4: =X4+AJ4+AW4 -> #DIV/0!
A5: IE-CTC MSV BASKET TOURAINE 2 | X5: =SUM(B5:W5) -> 0 | AJ5: =AVERAGE(Y5:AI5) -> #DIV/0! | AW5: =AVERAGE(AK5:AV5) -> #DIV/0! | AX5: =X5+AJ5+AW5 -> #DIV/0!
A6: USM MONTARGIS 1 | X6: =SUM(B6:W6) -> 0 | AJ6: =AVERAGE(Y6:AI6) -> #DIV/0! | AW6: =AVERAGE(AK6:AV6) -> #DIV/0! | AX6: =X6+AJ6+AW6 -> #DIV/0! | AY6: R
A7: ES ORMES 2 | X7: =SUM(B7:W7) -> 0 | AJ7: =AVERAGE(Y7:AI7) -> #DIV/0! | AW7: =AVERAGE(AK7:AV7) -> #DIV/0! | AX7: =X7+AJ7+AW7 -> #DIV/0!
A8: NECOTIN BB ASSOCIATION 1 | X8: =SUM(B8:W8) -> 0 | AJ8: =AVERAGE(Y8:AI8) -> #DIV/0! | AW8: =AVERAGE(AK8:AV8) -> #DIV/0! | AX8: =X8+AJ8+AW8 -> #DIV/0! | AY8: R
A9: ES OESIENNE 1 | X9: =SUM(B9:W9) -> 0 | AJ9: =AVERAGE(Y9:AI9) -> #DIV/0! | AW9: =AVERAGE(AK9:AV9) -> #DIV/0! | AX9: =X9+AJ9+AW9 -> #DIV/0! | AY9: R
X10: =SUM(B10:W10) -> 0 | AJ10: =AVERAGE(Y10:AI10) -> #DIV/0! | AW10: =AVERAGE(AK10:AV10) -> #DIV/0! | AX10: =X10+AJ10+AW10 -> #DIV/0!
X11: =SUM(B11:W11) -> 0 | AJ11: =AVERAGE(Y11:AI11) -> #DIV/0! | AW11: =AVERAGE(AK11:AV11) -> #DIV/0! | AX11: =X11+AJ11+AW11 -> #DIV/0!
X12: =SUM(B12:W12) -> 0 | AJ12: =AVERAGE(Y12:AI12) -> #DIV/0! | AW12: =AVERAGE(AK12:AV12) -> #DIV/0! | AX12: =X12+AJ12+AW12 -> #DIV/0!
X13: =SUM(B13:W13) -> 0 | AJ13: =AVERAGE(Y13:AI13) -> #DIV/0! | AW13: =AVERAGE(AK13:AV13) -> #DIV/0! | AX13: =X13+AJ13+AW13 -> #DIV/0!
Y14: 1 | Z14: 2 | AA14: 3 | AB14: 4 | AC14: 5 | AD14: 6 | AE14: 7 | AF14: 8 | AK14: 1 | AL14: 2 | AM14: 3 | AN14: 4 | AO14: 5 | AP14: 6 | AQ14: 7 | AR14: 8

Sheet RM3 Titre
A1: RM3 B | B1: 46060 | C1: 46067 | D1: 46074 | E1: 46095 | F1: 46102 | G1: 46116 | H1: 46123 | I1: 46130 | Y1: ACCUEIL | AJ1: M | AK1: PUBLIC | AW1: M | AX1: Géneral
X2: =SUM(B2:W2) -> 0 | AJ2: =AVERAGE(Y2:AI2) -> #DIV/0! | AW2: =AVERAGE(AK2:AV2) -> #DIV/0! | AX2: =X2+AJ2+AW2 -> #DIV/0!
X3: =SUM(B3:W3) -> 0 | AJ3: =AVERAGE(Y3:AI3) -> #DIV/0! | AW3: =AVERAGE(AK3:AV3) -> #DIV/0! | AX3: =X3+AJ3+AW3 -> #DIV/0! | AY3: R
X4: =SUM(B4:W4) -> 0 | AJ4: =AVERAGE(Y4:AI4) -> #DIV/0! | AW4: =AVERAGE(AK4:AV4) -> #DIV/0! | AX4: =X4+AJ4+AW4 -> #DIV/0!
X5: =SUM(B5:W5) -> 0 | AJ5: =AVERAGE(Y5:AI5) -> #DIV/0! | AW5: =AVERAGE(AK5:AV5) -> #DIV/0! | AX5: =X5+AJ5+AW5 -> #DIV/0! | AY5: R
X6: =SUM(B6:W6) -> 0 | AJ6: =AVERAGE(Y6:AI6) -> #DIV/0! | AW6: =AVERAGE(AK6:AV6) -> #DIV/0! | AX6: =X6+AJ6+AW6 -> #DIV/0! | AY6: R
X7: =SUM(B7:W7) -> 0 | AJ7: =AVERAGE(Y7:AI7) -> #DIV/0! | AW7: =AVERAGE(AK7:AV7) -> #DIV/0! | AX7: =X7+AJ7+AW7 -> #DIV/0! | AY7: R
X8: =SUM(B8:W8) -> 0 | AJ8: =AVERAGE(Y8:AI8) -> #DIV/0! | AW8: =AVERAGE(AK8:AV8) -> #DIV/0! | AX8: =X8+AJ8+AW8 -> #DIV/0! | AY8: R
X9: =SUM(B9:W9) -> 0 | AJ9: =AVERAGE(Y9:AI9) -> #DIV/0! | AW9: =AVERAGE(AK9:AV9) -> #DIV/0! | AX9: =X9+AJ9+AW9 -> #DIV/0!
X10: =SUM(B10:W10) -> 0 | AJ10: =AVERAGE(Y10:AI10) -> #DIV/0! | AW10: =AVERAGE(AK10:AV10) -> #DIV/0! | AX10: =X10+AJ10+AW10 -> #DIV/0!
X11: =SUM(B11:W11) -> 0 | AJ11: =AVERAGE(Y11:AI11) -> #DIV/0! | AW11: =AVERAGE(AK11:AV11) -> #DIV/0! | AX11: =X11+AJ11+AW11 -> #DIV/0!
X12: =SUM(B12:W12) -> 0 | AJ12: =AVERAGE(Y12:AI12) -> #DIV/0! | AW12: =AVERAGE(AK12:AV12) -> #DIV/0! | AX12: =X12+AJ12+AW12 -> #DIV/0!
X13: =SUM(B13:W13) -> 0 | AJ13: =AVERAGE(Y13:AI13) -> #DIV/0! | AW13: =AVERAGE(AK13:AV13) -> #DIV/0! | AX13: =X13+AJ13+AW13 -> #DIV/0!

Sheet RM3 Maintien
A1: RM3 B | B1: 46060 | C1: 46067 | D1: 46074 | E1: 46095 | F1: 46102 | G1: 46116 | H1: 46123 | I1: 46130 | Y1: ACCUEIL | AJ1: M | AK1: PUBLIC | AW1: M | AX1: Géneral
X2: =SUM(B2:W2) -> 0 | AJ2: =AVERAGE(Y2:AI2) -> #DIV/0! | AW2: =AVERAGE(AK2:AV2) -> #DIV/0! | AX2: =X2+AJ2+AW2 -> #DIV/0! | AY2: R
X3: =SUM(B3:W3) -> 0 | AJ3: =AVERAGE(Y3:AI3) -> #DIV/0! | AW3: =AVERAGE(AK3:AV3) -> #DIV/0! | AX3: =X3+AJ3+AW3 -> #DIV/0!
X4: =SUM(B4:W4) -> 0 | AJ4: =AVERAGE(Y4:AI4) -> #DIV/0! | AW4: =AVERAGE(AK4:AV4) -> #DIV/0! | AX4: =X4+AJ4+AW4 -> #DIV/0! | AY4: R
X5: =SUM(B5:W5) -> 0 | AJ5: =AVERAGE(Y5:AI5) -> #DIV/0! | AW5: =AVERAGE(AK5:AV5) -> #DIV/0! | AX5: =X5+AJ5+AW5 -> #DIV/0! | AY5: R
X6: =SUM(B6:W6) -> 0 | AJ6: =AVERAGE(Y6:AI6) -> #DIV/0! | AW6: =AVERAGE(AK6:AV6) -> #DIV/0! | AX6: =X6+AJ6+AW6 -> #DIV/0!
X7: =SUM(B7:W7) -> 0 | AJ7: =AVERAGE(Y7:AI7) -> #DIV/0! | AW7: =AVERAGE(AK7:AV7) -> #DIV/0! | AX7: =X7+AJ7+AW7 -> #DIV/0!
X8: =SUM(B8:W8) -> 0 | AJ8: =AVERAGE(Y8:AI8) -> #DIV/0! | AW8: =AVERAGE(AK8:AV8) -> #DIV/0! | AX8: =X8+AJ8+AW8 -> #DIV/0!
X9: =SUM(B9:W9) -> 0 | AJ9: =AVERAGE(Y9:AI9) -> #DIV/0! | AW9: =AVERAGE(AK9:AV9) -> #DIV/0! | AX9: =X9+AJ9+AW9 -> #DIV/0! | AY9: FFG
X10: =SUM(B10:W10) -> 0 | AJ10: =AVERAGE(Y10:AI10) -> #DIV/0! | AW10: =AVERAGE(AK10:AV10) -> #DIV/0! | AX10: =X10+AJ10+AW10 -> #DIV/0!
X11: =SUM(B11:W11) -> 0 | AJ11: =AVERAGE(Y11:AI11) -> #DIV/0! | AW11: =AVERAGE(AK11:AV11) -> #DIV/0! | AX11: =X11+AJ11+AW11 -> #DIV/0!
X12: =SUM(B12:W12) -> 0 | AJ12: =AVERAGE(Y12:AI12) -> #DIV/0! | AW12: =AVERAGE(AK12:AV12) -> #DIV/0! | AX12: =X12+AJ12+AW12 -> #DIV/0!
X13: =SUM(B13:W13) -> 0 | AJ13: =AVERAGE(Y13:AI13) -> #DIV/0! | AW13: =AVERAGE(AK13:AV13) -> #DIV/0! | AX13: =X13+AJ13+AW13 -> #DIV/0!

Sheet Classements
A1: Classement CHALLENGE ESPRIT SPORTIF arrêté au 14/05/2018
B4: PNF | D4: Points | F4: RF2 | H4: Points | J4: PNM | L4: Points
B6: =PNF!A10 -> CES TOURS 1 | D6: =IF(PNF!Y10=0,"") | F6: ='RF2'!A6 -> EVEIL SPORTIF D'ORMES BASKET BALL - 1 | H6: ='RF2'!AB6 -> 0 | J6: =PNM!A10 -> TOURAINE BC - 2 | L6: =PNM!AC10 -> 0
B7: =PNF!A11 -> CJMB BOURGES 3 | D7: =PNF!Y11 -> 0 | F7: ='RF2'!A10 -> IE-CTC NECOTIN-ST JEAN LE BLANC BAKET-1 | H7: ='RF2'!AB10 -> 0 | J7: =PNM!A11 -> USM OLIVET - 1 | L7: =PNM!AC11 -> 0
B8: =PNF!A7 -> IE-CTC MSV BASKET TOURAINE 1 | D8: =PNF!Y7 -> 0 | F8: ='RF2'!A5 -> IE - CTC AVENIR LOIRE BASKET 37 - ESO 1 | H8: ='RF2'!AB5 -> 0 | J8: =PNM!A2 -> ST DOULCHARD BASKET BALL - 1 | L8: =PNM!AC2 -> 0
B9: =PNF!A3 -> USM OLIVET 1 | D9: =PNF!Y3 -> 0 | F9: ='RF2'!A9 -> ES BOURGUEIL 1 | H9: ='RF2'!AB9 -> 0 | J9: =PNM!A5 -> CMPJM INGRE BASKET - 1 | L9: =PNM!AC5 -> 0
B10: =PNF!A9 -> CS BOURGES 1 | D10: =PNF!Y9 -> 0 | F10: ='RF2'!A3 -> USM OLIVET - 2 | H10: ='RF2'!AB3 -> 0 | J10: =PNM!A9 -> IE-CTC MSV BASKET TOURAINE-1 | L10: =PNM!AC9 -> 0
B11: =PNF!A2 -> AS JOCONDIEN 2 | D11: =PNF!Y2 -> 22 | F11: ='RF2'!A2 -> ORLEANS LBA 1 | H11: ='RF2'!AB2 -> 0 | J11: =PNM!A8 -> ORLEANS LOIRET BA - 2 | L11: =PNM!AC8 -> 0
B12: =PNF!A8 -> AS MONTS 1 | D12: =PNF!Y8 -> 0 | F12: ='RF2'!A11 -> IE - CTC ASPTT CHATEAUROUX - LE POINÇONNET BASKET - 1 | H12: ='RF2'!AB11 -> 0 | J12: =PNM!A12 -> TOURS METROPOLE BASKET PLLL - 3 | L12: =PNM!AC12 -> 0
B13: =PNF!A13 -> 0 | D13: =PNF!Y13 -> 0 | F13: ='RF2'!A8 -> ALLIANCE DREUX 1 | H13: ='RF2'!AB8 -> 0 | J13: =PNM!A4 -> BOIGNY BC 1 | L13: =PNM!AC4 -> 0
B14: =PNF!A6 -> USM SARAN 2 | D14: =PNF!Y6 -> 0 | F14: ='RF2'!A14 -> 0 | H14: ='RF2'!AB14 -> 1 | J14: =PNM!A6 -> BARJOUVILLE BASKET 1 | L14: =PNM!AC6 -> 0
B15: =PNF!A4 -> IE - ADA BLOIS 41-1 | D15: =PNF!Y4 -> 0 | F15: ='RF2'!A4 -> A C AMBOISE NAZELLES - 1 | H15: ='RF2'!AB4 -> 0 | J15: =PNM!A7 -> ABC SAINT JEAN DE BRAYE 45 - 1 | L15: =PNM!AC7 -> 0
B16: =PNF!A5 -> IE-CTC ASPTT CHATEAUROUX -LE POINCONNET 2 | D16: =PNF!Y5 -> 0 | F16: ='RF2'!A7 -> IE - CTC BLT45 - BOIGNY BC - 2 | H16: ='RF2'!AB7 -> 0 | J16: =PNM!A3 -> IE - ADA BLOIS BASKET 41 - 2 | L16: =PNM!AC3 -> 0
B17: =PNF!A12 -> IE - CTC AVENIR LOIRE BASKET 37-1 | D17: =PNF!Y12 -> 0 | F17: ='RF2'!A15 -> 0 | H17: ='RF2'!AB15 -> 0 | J17: =PNM!A14 -> FJ CHAMPHOL 1 | L17: =PNM!AC14 -> 0
F18: ='RF2'!A12 -> SMS ROMORANTIN - 1 | H18: ='RF2'!AB12 -> 0 | J18: =PNM!A13 -> ES ORMES - 1 | L18: =PNM!AC13 -> 0
F19: ='RF2'!A13 -> 0 | H19: ='RF2'!AB13 -> 0 | J19: =PNM!A15 -> 0 | L19: =PNM!AC15 -> 0
B23: RM2 | D23: Points | F23: RM3 A | H23: Points | J23: RM3 B | L23: Points
B25: ='RM2'!A6 -> IE - VINEUIL SPORTS BASKET - 2 | D25: ='RM2'!X6 -> 0 | F25: =RM3A!A10 -> 0 | H25: =RM3A!X10 -> 0 | J25: ='RM3 B'!A10 -> 0 | L25: ='RM3 B'!X10 -> 0
B26: ='RM2'!A8 -> IE-CTC CHATEAUDUN BASKET SUD 28-1 | D26: ='RM2'!X8 -> 0 | F26: =RM3A!A7 -> ASJ LA CHAUSSEE ST VICTOR 1 | H26: =RM3A!X7 -> 0 | J26: ='RM3 B'!A3 -> ES BOURGUEIL - 1 | L26: ='RM3 B'!X3 -> 0
B27: ='RM2'!A3 -> C'CHARTRES BASKET M - 3 | D27: ='RM2'!X3 -> 0 | F27: =RM3A!A8 -> IE-CTC DEOLS ETRECHET ST MAUR 1 | H27: =RM3A!X8 -> 0 | J27: ='RM3 B'!A4 -> IE-ADA BLOIS 41-3 | L27: ='RM3 B'!X4 -> 0
B28: ='RM2'!A13 -> AS FONDETTES 2 | D28: ='RM2'!X13 -> 0 | F28: =RM3A!A3 -> USM OLIVET 2 | H28: =RM3A!X3 -> 0 | J28: ='RM3 B'!A9 -> ES OESIENNE 1 | L28: ='RM3 B'!X9 -> 0
B29: ='RM2'!A7 -> AMICALE LUCE - 1 | D29: ='RM2'!X7 -> 0 | F29: =RM3A!A6 -> LA MONTJOIE ST DENIS EN VAL 1 | H29: =RM3A!X6 -> 0 | J29: ='RM3 B'!A7 -> ES ORMES 2 | L29: ='RM3 B'!X7 -> 0
B30: ='RM2'!A11 -> AMICALE NEUVILLE AUX BOIS 1 | D30: ='RM2'!X11 -> 0 | F30: =RM3A!A2 -> AS JOCONDIEN 2 | H30: =RM3A!X2 -> 0 | J30: ='RM3 B'!A2 -> TRAINOU AS - 1 | L30: ='RM3 B'!X2 -> 0
B31: ='RM2'!A2 -> AS JOCONDIEN - 1 | D31: ='RM2'!X2 -> 0 | F31: =RM3A!A4 -> AL SAINT OUEN BASKET - 1 | H31: =RM3A!X4 -> 0 | J31: ='RM3 B'!A13 -> 0 | L31: ='RM3 B'!X13 -> 0
B32: ='RM2'!A4 -> ASPTT CHATEAUROUX 1 | D32: ='RM2'!X4 -> 0 | F32: =RM3A!A9 -> ST DOULCHARD 2 | H32: =RM3A!X9 -> 0 | J32: ='RM3 B'!A8 -> NECOTIN BB ASSOCIATION 1 | L32: ='RM3 B'!X8 -> 0
B33: ='RM2'!A12 -> CJF LES AUBRAIS 2 | D33: ='RM2'!X12 -> 0 | F33: =RM3A!A5 -> CMPJM INGRE BASKET - 2 | H33: =RM3A!X5 -> 0 | J33: ='RM3 B'!A11 -> 0 | L33: ='RM3 B'!X11 -> 0
B34: ='RM2'!A10 -> US SAINT PIERRE DES CORPS - 1 | D34: ='RM2'!X10 -> 0 | F34: =RM3A!A12 -> 0 | H34: =RM3A!X12 -> 0 | J34: ='RM3 B'!A6 -> USM MONTARGIS 1 | L34: ='RM3 B'!X6 -> 0
B35: ='RM2'!A5 -> ORLEANS LOIRET BASKET ASSO - 3 | D35: ='RM2'!X5 -> 0 | F35: =RM3A!A13 -> 0 | H35: =RM3A!X13 -> 0 | J35: ='RM3 B'!A5 -> IE-CTC MSV BASKET TOURAINE 2 | L35: ='RM3 B'!X5 -> 0
B36: ='RM2'!A9 -> ALLIANCE DREUX 1 | D36: ='RM2'!X9 -> 0 | F36: =RM3A!A11 -> 0 | H36: =RM3A!X11 -> 0 | J36: ='RM3 B'!A12 -> 0 | L36: ='RM3 B'!X12 -> 0

Sheet Classement A
A1: Classement
B4: PNF | D4: Points | F4: RF2 | H4: Points | J4: PNM | L4: Points
B5: =PNF!A9 -> CS BOURGES 1 | D5: =PNF!AK9 -> #DIV/0! | F5: ='RF2'!A3 -> USM OLIVET - 2 | H5: ='RF2'!AN3 -> #DIV/0! | J5: =PNM!A12 -> TOURS METROPOLE BASKET PLLL - 3 | L5: =PNM!AO12 -> #DIV/0!
B6: =PNF!A8 -> AS MONTS 1 | D6: =PNF!AK8 -> #DIV/0! | F6: ='RF2'!A9 -> ES BOURGUEIL 1 | H6: ='RF2'!AN9 -> #DIV/0! | J6: =PNM!A11 -> USM OLIVET - 1 | L6: =PNM!AO11 -> #DIV/0!
B7: =PNF!A6 -> USM SARAN 2 | D7: =PNF!AK6 -> #DIV/0! | F7: ='RF2'!A4 -> A C AMBOISE NAZELLES - 1 | H7: ='RF2'!AN4 -> #DIV/0! | J7: =PNM!A4 -> BOIGNY BC 1 | L7: =PNM!AO4 -> #DIV/0!
B8: =PNF!A3 -> USM OLIVET 1 | D8: =PNF!AK3 -> #DIV/0! | F8: ='RF2'!A14 -> 0 | H8: ='RF2'!AN14 -> #DIV/0! | J8: =PNM!A14 -> FJ CHAMPHOL 1 | L8: =PNM!AO14 -> #DIV/0!
B9: =PNF!A10 -> CES TOURS 1 | D9: =PNF!AK10 -> #DIV/0! | F9: ='RF2'!A8 -> ALLIANCE DREUX 1 | H9: ='RF2'!AN8 -> #DIV/0! | J9: =PNM!A3 -> IE - ADA BLOIS BASKET 41 - 2 | L9: =PNM!AO3 -> #DIV/0!
B10: =PNF!A12 -> IE - CTC AVENIR LOIRE BASKET 37-1 | D10: =PNF!AK12 -> #DIV/0! | F10: ='RF2'!A10 -> IE-CTC NECOTIN-ST JEAN LE BLANC BAKET-1 | H10: ='RF2'!AN10 -> #DIV/0! | J10: =PNM!A8 -> ORLEANS LOIRET BA - 2 | L10: =PNM!AO8 -> #DIV/0!
B11: =PNF!A2 -> AS JOCONDIEN 2 | D11: =PNF!AK2 -> #DIV/0! | F11: ='RF2'!A11 -> IE - CTC ASPTT CHATEAUROUX - LE POINÇONNET BASKET - 1 | H11: ='RF2'!AN11 -> #DIV/0! | J11: =PNM!A5 -> CMPJM INGRE BASKET - 1 | L11: =PNM!AO5 -> #DIV/0!
B12: =PNF!A11 -> CJMB BOURGES 3 | D12: =PNF!AK11 -> #DIV/0! | F12: ='RF2'!A6 -> EVEIL SPORTIF D'ORMES BASKET BALL - 1 | H12: ='RF2'!AN6 -> #DIV/0! | J12: =PNM!A2 -> ST DOULCHARD BASKET BALL - 1 | L12: =PNM!AO2 -> #DIV/0!
B13: =PNF!A13 -> 0 | D13: =PNF!AK13 -> #DIV/0! | F13: ='RF2'!A12 -> SMS ROMORANTIN - 1 | H13: ='RF2'!AN12 -> #DIV/0! | J13: =PNM!A6 -> BARJOUVILLE BASKET 1 | L13: =PNM!AO6 -> #DIV/0!
B14: =PNF!A5 -> IE-CTC ASPTT CHATEAUROUX -LE POINCONNET 2 | D14: =PNF!AK5 -> #DIV/0! | F14: ='RF2'!A2 -> ORLEANS LBA 1 | H14: ='RF2'!AN2 -> #DIV/0! | J14: =PNM!A7 -> ABC SAINT JEAN DE BRAYE 45 - 1 | L14: =PNM!AO7 -> #DIV/0!
B15: =PNF!A7 -> IE-CTC MSV BASKET TOURAINE 1 | D15: =PNF!AK7 -> #DIV/0! | F15: ='RF2'!A15 -> 0 | H15: ='RF2'!AN15 -> #DIV/0! | J15: =PNM!A9 -> IE-CTC MSV BASKET TOURAINE-1 | L15: =PNM!AO9 -> #DIV/0!
B16: =PNF!A4 -> IE - ADA BLOIS 41-1 | D16: =PNF!AK4 -> #DIV/0! | F16: ='RF2'!A13 -> 0 | H16: ='RF2'!AN13 -> #DIV/0! | J16: =PNM!A10 -> TOURAINE BC - 2 | L16: =PNM!AO10 -> #DIV/0!
F17: ='RF2'!A5 -> IE - CTC AVENIR LOIRE BASKET 37 - ESO 1 | H17: ='RF2'!AN5 -> #DIV/0! | J17: =PNM!A13 -> ES ORMES - 1 | L17: =PNM!AO13 -> #DIV/0!
F18: ='RF2'!A7 -> IE - CTC BLT45 - BOIGNY BC - 2 | H18: ='RF2'!AN7 -> #DIV/0! | J18: =PNM!A15 -> 0 | L18: =PNM!AO15 -> #DIV/0!
B23: RM2 | D23: Points | F23: RM3 A | H23: Points | J23: RM3 B | L23: Points
B24: ='RM2'!A12 -> CJF LES AUBRAIS 2 | D24: ='RM2'!AJ12 -> #DIV/0! | F24: =RM3A!A10 -> 0 | H24: =RM3A!AJ10 -> #DIV/0! | J24: ='RM3 B'!A3 -> ES BOURGUEIL - 1 | L24: ='RM3 B'!AJ3 -> #DIV/0!
B25: ='RM2'!A9 -> ALLIANCE DREUX 1 | D25: ='RM2'!AJ9 -> #DIV/0! | F25: =RM3A!A12 -> 0 | H25: =RM3A!AJ12 -> #DIV/0! | J25: ='RM3 B'!A9 -> ES OESIENNE 1 | L25: ='RM3 B'!AJ9 -> #DIV/0!
B26: ='RM2'!A3 -> C'CHARTRES BASKET M - 3 | D26: ='RM2'!AJ3 -> #DIV/0! | F26: =RM3A!A3 -> USM OLIVET 2 | H26: =RM3A!AJ3 -> #DIV/0! | J26: ='RM3 B'!A11 -> 0 | L26: ='RM3 B'!AJ11 -> #DIV/0!
B27: ='RM2'!A8 -> IE-CTC CHATEAUDUN BASKET SUD 28-1 | D27: ='RM2'!AJ8 -> #DIV/0! | F27: =RM3A!A13 -> 0 | H27: =RM3A!AJ13 -> #DIV/0! | J27: ='RM3 B'!A12 -> 0 | L27: ='RM3 B'!AJ12 -> #DIV/0!
B28: ='RM2'!A4 -> ASPTT CHATEAUROUX 1 | D28: ='RM2'!AJ4 -> #DIV/0! | F28: =RM3A!A7 -> ASJ LA CHAUSSEE ST VICTOR 1 | H28: =RM3A!AJ7 -> #DIV/0! | J28: ='RM3 B'!A10 -> 0 | L28: ='RM3 B'!AJ10 -> #DIV/0!
B29: ='RM2'!A5 -> ORLEANS LOIRET BASKET ASSO - 3 | D29: ='RM2'!AJ5 -> #DIV/0! | F29: =RM3A!A2 -> AS JOCONDIEN 2 | H29: =RM3A!AJ2 -> #DIV/0! | J29: ='RM3 B'!A7 -> ES ORMES 2 | L29: ='RM3 B'!AJ7 -> #DIV/0!
B30: ='RM2'!A7 -> AMICALE LUCE - 1 | D30: ='RM2'!AJ7 -> #DIV/0! | F30: =RM3A!A6 -> LA MONTJOIE ST DENIS EN VAL 1 | H30: =RM3A!AJ6 -> #DIV/0! | J30: ='RM3 B'!A8 -> NECOTIN BB ASSOCIATION 1 | L30: ='RM3 B'!AJ8 -> #DIV/0!
B31: ='RM2'!A10 -> US SAINT PIERRE DES CORPS - 1 | D31: ='RM2'!AJ10 -> #DIV/0! | F31: =RM3A!A4 -> AL SAINT OUEN BASKET - 1 | H31: =RM3A!AJ4 -> #DIV/0! | J31: ='RM3 B'!A6 -> USM MONTARGIS 1 | L31: ='RM3 B'!AJ6 -> #DIV/0!
B32: ='RM2'!A6 -> IE - VINEUIL SPORTS BASKET - 2 | D32: ='RM2'!AJ6 -> #DIV/0! | F32: =RM3A!A9 -> ST DOULCHARD 2 | H32: =RM3A!AJ9 -> #DIV/0! | J32: ='RM3 B'!A4 -> IE-ADA BLOIS 41-3 | L32: ='RM3 B'!AJ4 -> #DIV/0!
B33: ='RM2'!A2 -> AS JOCONDIEN - 1 | D33: ='RM2'!AJ2 -> #DIV/0! | F33: =RM3A!A5 -> CMPJM INGRE BASKET - 2 | H33: =RM3A!AJ5 -> #DIV/0! | J33: ='RM3 B'!A5 -> IE-CTC MSV BASKET TOURAINE 2 | L33: ='RM3 B'!AJ5 -> #DIV/0!
B34: ='RM2'!A11 -> AMICALE NEUVILLE AUX BOIS 1 | D34: ='RM2'!AJ11 -> #DIV/0! | F34: =RM3A!A11 -> 0 | H34: =RM3A!AJ11 -> #DIV/0! | J34: ='RM3 B'!A2 -> TRAINOU AS - 1 | L34: ='RM3 B'!AJ2 -> #DIV/0!
B35: ='RM2'!A13 -> AS FONDETTES 2 | D35: ='RM2'!AJ13 -> #DIV/0! | F35: =RM3A!A8 -> IE-CTC DEOLS ETRECHET ST MAUR 1 | H35: =RM3A!AJ8 -> #DIV/0! | J35: ='RM3 B'!A13 -> 0 | L35: ='RM3 B'!AJ13 -> #DIV/0!

Sheet Classement P
A1: Classement
B4: PNF | D4: Points | F4: RF2 | H4: Points | J4: PNM | L4: Points
B5: =PNF!A9 -> CS BOURGES 1 | D5: =PNF!AX9 -> #DIV/0! | F5: ='RF2'!A8 -> ALLIANCE DREUX 1 | H5: ='RF2'!BA8 -> #DIV/0! | J5: =PNM!A12 -> TOURS METROPOLE BASKET PLLL - 3 | L5: =PNM!BB12 -> #DIV/0!
B6: =PNF!A8 -> AS MONTS 1 | D6: =PNF!AX8 -> #DIV/0! | F6: ='RF2'!A4 -> A C AMBOISE NAZELLES - 1 | H6: ='RF2'!BA4 -> #DIV/0! | J6: =PNM!A6 -> BARJOUVILLE BASKET 1 | L6: =PNM!BB6 -> #DIV/0!
B7: =PNF!A11 -> CJMB BOURGES 3 | D7: =PNF!AX11 -> #DIV/0! | F7: ='RF2'!A9 -> ES BOURGUEIL 1 | H7: ='RF2'!BA9 -> #DIV/0! | J7: =PNM!A8 -> ORLEANS LOIRET BA - 2 | L7: =PNM!BB8 -> #DIV/0!
B8: =PNF!A2 -> AS JOCONDIEN 2 | D8: =PNF!AX2 -> #DIV/0! | F8: ='RF2'!A5 -> IE - CTC AVENIR LOIRE BASKET 37 - ESO 1 | H8: ='RF2'!BA5 -> #DIV/0! | J8: =PNM!A7 -> ABC SAINT JEAN DE BRAYE 45 - 1 | L8: =PNM!BB7 -> #DIV/0!
B9: =PNF!A7 -> IE-CTC MSV BASKET TOURAINE 1 | D9: =PNF!AX7 -> #DIV/0! | F9: ='RF2'!A10 -> IE-CTC NECOTIN-ST JEAN LE BLANC BAKET-1 | H9: ='RF2'!BA10 -> #DIV/0! | J9: =PNM!A4 -> BOIGNY BC 1 | L9: =PNM!BB4 -> #DIV/0!
B10: =PNF!A5 -> IE-CTC ASPTT CHATEAUROUX -LE POINCONNET 2 | D10: =PNF!AX5 -> #DIV/0! | F10: ='RF2'!A12 -> SMS ROMORANTIN - 1 | H10: ='RF2'!BA12 -> #DIV/0! | J10: =PNM!A9 -> IE-CTC MSV BASKET TOURAINE-1 | L10: =PNM!BB9 -> #DIV/0!
B11: =PNF!A3 -> USM OLIVET 1 | D11: =PNF!AX3 -> #DIV/0! | F11: ='RF2'!A6 -> EVEIL SPORTIF D'ORMES BASKET BALL - 1 | H11: ='RF2'!BA6 -> #DIV/0! | J11: =PNM!A11 -> USM OLIVET - 1 | L11: =PNM!BB11 -> #DIV/0!
B12: =PNF!A10 -> CES TOURS 1 | D12: =PNF!AX10 -> #DIV/0! | F12: ='RF2'!A13 -> 0 | H12: ='RF2'!BA13 -> #DIV/0! | J12: =PNM!A5 -> CMPJM INGRE BASKET - 1 | L12: =PNM!BB5 -> #DIV/0!
B13: =PNF!A6 -> USM SARAN 2 | D13: =PNF!AX6 -> #DIV/0! | F13: ='RF2'!A2 -> ORLEANS LBA 1 | H13: ='RF2'!BA2 -> #DIV/0! | J13: =PNM!A2 -> ST DOULCHARD BASKET BALL - 1 | L13: =PNM!BB2 -> #DIV/0!
B14: =PNF!A4 -> IE - ADA BLOIS 41-1 | D14: =PNF!AX4 -> #DIV/0! | F14: ='RF2'!A3 -> USM OLIVET - 2 | H14: ='RF2'!BA3 -> #DIV/0! | J14: =PNM!A14 -> FJ CHAMPHOL 1 | L14: =PNM!BB14 -> #DIV/0!
B15: =PNF!A13 -> 0 | D15: =PNF!AX13 -> #DIV/0! | F15: ='RF2'!A15 -> 0 | H15: ='RF2'!BA15 -> #DIV/0! | J15: =PNM!A3 -> IE - ADA BLOIS BASKET 41 - 2 | L15: =PNM!BB3 -> #DIV/0!
B16: =PNF!A12 -> IE - CTC AVENIR LOIRE BASKET 37-1 | D16: =PNF!AX12 -> #DIV/0! | F16: ='RF2'!A14 -> 0 | H16: ='RF2'!BA14 -> #DIV/0! | J16: =PNM!A10 -> TOURAINE BC - 2 | L16: =PNM!BB10 -> #DIV/0!
F17: ='RF2'!A7 -> IE - CTC BLT45 - BOIGNY BC - 2 | H17: ='RF2'!BA7 -> #DIV/0! | J17: =PNM!A13 -> ES ORMES - 1 | L17: =PNM!BB13 -> #DIV/0!
F18: ='RF2'!A11 -> IE - CTC ASPTT CHATEAUROUX - LE POINÇONNET BASKET - 1 | H18: ='RF2'!BA11 -> #DIV/0! | J18: =PNM!A15 -> 0 | L18: =PNM!BB15 -> #DIV/0!
B23: RM2 | D23: Points | F23: RM3 A | H23: Points | J23: RM3 B | L23: Points
B24: ='RM2'!A12 -> CJF LES AUBRAIS 2 | D24: ='RM2'!AW12 -> 0 | F24: =RM3A!A10 -> 0 | H24: =RM3A!AW10 -> #DIV/0! | J24: ='RM3 B'!A9 -> ES OESIENNE 1 | L24: ='RM3 B'!AW9 -> #DIV/0!
B25: ='RM2'!A5 -> ORLEANS LOIRET BASKET ASSO - 3 | D25: ='RM2'!AW5 -> 0 | F25: =RM3A!A2 -> AS JOCONDIEN 2 | H25: =RM3A!AW2 -> #DIV/0! | J25: ='RM3 B'!A7 -> ES ORMES 2 | L25: ='RM3 B'!AW7 -> #DIV/0!
B26: ='RM2'!A9 -> ALLIANCE DREUX 1 | D26: ='RM2'!AW9 -> 0 | F26: =RM3A!A5 -> CMPJM INGRE BASKET - 2 | H26: =RM3A!AW5 -> #DIV/0! | J26: ='RM3 B'!A2 -> TRAINOU AS - 1 | L26: ='RM3 B'!AW2 -> #DIV/0!
B27: ='RM2'!A3 -> C'CHARTRES BASKET M - 3 | D27: ='RM2'!AW3 -> 0 | F27: =RM3A!A12 -> 0 | H27: =RM3A!AW12 -> #DIV/0! | J27: ='RM3 B'!A12 -> 0 | L27: ='RM3 B'!AW12 -> #DIV/0!
B28: ='RM2'!A8 -> IE-CTC CHATEAUDUN BASKET SUD 28-1 | D28: ='RM2'!AW8 -> 0 | F28: =RM3A!A9 -> ST DOULCHARD 2 | H28: =RM3A!AW9 -> #DIV/0! | J28: ='RM3 B'!A13 -> 0 | L28: ='RM3 B'!AW13 -> #DIV/0!
B29: ='RM2'!A6 -> IE - VINEUIL SPORTS BASKET - 2 | D29: ='RM2'!AW6 -> 0 | F29: =RM3A!A11 -> 0 | H29: =RM3A!AW11 -> #DIV/0! | J29: ='RM3 B'!A3 -> ES BOURGUEIL - 1 | L29: ='RM3 B'!AW3 -> #DIV/0!
B30: ='RM2'!A11 -> AMICALE NEUVILLE AUX BOIS 1 | D30: ='RM2'!AW11 -> 0 | F30: =RM3A!A7 -> ASJ LA CHAUSSEE ST VICTOR 1 | H30: =RM3A!AW7 -> #DIV/0! | J30: ='RM3 B'!A11 -> 0 | L30: ='RM3 B'!AW11 -> #DIV/0!
B31: ='RM2'!A4 -> ASPTT CHATEAUROUX 1 | D31: ='RM2'!AW4 -> 0 | F31: =RM3A!A8 -> IE-CTC DEOLS ETRECHET ST MAUR 1 | H31: =RM3A!AW8 -> #DIV/0! | J31: ='RM3 B'!A4 -> IE-ADA BLOIS 41-3 | L31: ='RM3 B'!AW4 -> #DIV/0!
B32: ='RM2'!A10 -> US SAINT PIERRE DES CORPS - 1 | D32: ='RM2'!AW10 -> 0 | F32: =RM3A!A3 -> USM OLIVET 2 | H32: =RM3A!AW3 -> #DIV/0! | J32: ='RM3 B'!A8 -> NECOTIN BB ASSOCIATION 1 | L32: ='RM3 B'!AW8 -> #DIV/0!
B33: ='RM2'!A7 -> AMICALE LUCE - 1 | D33: ='RM2'!AW7 -> 0 | F33: =RM3A!A6 -> LA MONTJOIE ST DENIS EN VAL 1 | H33: =RM3A!AW6 -> #DIV/0! | J33: ='RM3 B'!A5 -> IE-CTC MSV BASKET TOURAINE 2 | L33: ='RM3 B'!AW5 -> #DIV/0!
B34: ='RM2'!A2 -> AS JOCONDIEN - 1 | D34: ='RM2'!AW2 -> 0 | F34: =RM3A!A4 -> AL SAINT OUEN BASKET - 1 | H34: =RM3A!AW4 -> #DIV/0! | J34: ='RM3 B'!A10 -> 0 | L34: ='RM3 B'!AW10 -> #DIV/0!
B35: ='RM2'!A13 -> AS FONDETTES 2 | D35: ='RM2'!AW13 -> #DIV/0! | F35: =RM3A!A13 -> 0 | H35: =RM3A!AW13 -> #DIV/0! | J35: ='RM3 B'!A6 -> USM MONTARGIS 1 | L35: ='RM3 B'!AW6 -> #DIV/0!

Sheet Général
A1: Classement
B4: PNF | D4: Points | F4: RF2 | H4: Points | J4: PNM | L4: Points
B5: =PNF!A9 -> CS BOURGES 1 | D5: =PNF!AY9 -> #DIV/0! | F5: ='RF2'!A10 -> IE-CTC NECOTIN-ST JEAN LE BLANC BAKET-1 | H5: ='RF2'!BB10 -> #DIV/0! | J5: =PNM!A10 -> TOURAINE BC - 2 | L5: =PNM!BC10 -> #DIV/0!
B6: =PNF!A3 -> USM OLIVET 1 | D6: =PNF!AY3 -> #DIV/0! | F6: ='RF2'!A5 -> IE - CTC AVENIR LOIRE BASKET 37 - ESO 1 | H6: ='RF2'!BB5 -> #DIV/0! | J6: =PNM!A11 -> USM OLIVET - 1 | L6: =PNM!BC11 -> #DIV/0!
B7: =PNF!A11 -> CJMB BOURGES 3 | D7: =PNF!AY11 -> #DIV/0! | F7: ='RF2'!A6 -> EVEIL SPORTIF D'ORMES BASKET BALL - 1 | H7: ='RF2'!BB6 -> #DIV/0! | J7: =PNM!A2 -> ST DOULCHARD BASKET BALL - 1 | L7: =PNM!BC2 -> #DIV/0!
B8: =PNF!A2 -> AS JOCONDIEN 2 | D8: =PNF!AY2 -> #DIV/0! | F8: ='RF2'!A9 -> ES BOURGUEIL 1 | H8: ='RF2'!BB9 -> #DIV/0! | J8: =PNM!A5 -> CMPJM INGRE BASKET - 1 | L8: =PNM!BC5 -> #DIV/0!
B9: =PNF!A8 -> AS MONTS 1 | D9: =PNF!AY8 -> #DIV/0! | F9: ='RF2'!A3 -> USM OLIVET - 2 | H9: ='RF2'!BB3 -> #DIV/0! | J9: =PNM!A9 -> IE-CTC MSV BASKET TOURAINE-1 | L9: =PNM!BC9 -> #DIV/0!
B10: =PNF!A10 -> CES TOURS 1 | D10: =PNF!AY10 -> #DIV/0! | F10: ='RF2'!A2 -> ORLEANS LBA 1 | H10: ='RF2'!BB2 -> #DIV/0! | J10: =PNM!A12 -> TOURS METROPOLE BASKET PLLL - 3 | L10: =PNM!BC12 -> #DIV/0!
B11: =PNF!A7 -> IE-CTC MSV BASKET TOURAINE 1 | D11: =PNF!AY7 -> #DIV/0! | F11: ='RF2'!A11 -> IE - CTC ASPTT CHATEAUROUX - LE POINÇONNET BASKET - 1 | H11: ='RF2'!BB11 -> #DIV/0! | J11: =PNM!A8 -> ORLEANS LOIRET BA - 2 | L11: =PNM!BC8 -> #DIV/0!
B12: =PNF!A6 -> USM SARAN 2 | D12: =PNF!AY6 -> #DIV/0! | F12: ='RF2'!A8 -> ALLIANCE DREUX 1 | H12: ='RF2'!BB8 -> #DIV/0! | J12: =PNM!A4 -> BOIGNY BC 1 | L12: =PNM!BC4 -> #DIV/0!
B13: =PNF!A13 -> 0 | D13: =PNF!AY13 -> #DIV/0! | F13: ='RF2'!A14 -> 0 | H13: ='RF2'!BB14 -> #DIV/0! | J13: =PNM!A6 -> BARJOUVILLE BASKET 1 | L13: =PNM!BC6 -> #DIV/0!
B14: =PNF!A4 -> IE - ADA BLOIS 41-1 | D14: =PNF!AY4 -> #DIV/0! | F14: ='RF2'!A4 -> A C AMBOISE NAZELLES - 1 | H14: ='RF2'!BB4 -> #DIV/0! | J14: =PNM!A7 -> ABC SAINT JEAN DE BRAYE 45 - 1 | L14: =PNM!BC7 -> #DIV/0!
B15: =PNF!A5 -> IE-CTC ASPTT CHATEAUROUX -LE POINCONNET 2 | D15: =PNF!AY5 -> #DIV/0! | F15: ='RF2'!A12 -> SMS ROMORANTIN - 1 | H15: ='RF2'!BB12 -> #DIV/0! | J15: =PNM!A14 -> FJ CHAMPHOL 1 | L15: =PNM!BC14 -> #DIV/0!
B16: =PNF!A12 -> IE - CTC AVENIR LOIRE BASKET 37-1 | D16: =PNF!AY12 -> #DIV/0! | F16: ='RF2'!A15 -> 0 | H16: ='RF2'!BB15 -> #DIV/0! | J16: =PNM!A3 -> IE - ADA BLOIS BASKET 41 - 2 | L16: =PNM!BC3 -> #DIV/0!
F17: ='RF2'!A7 -> IE - CTC BLT45 - BOIGNY BC - 2 | H17: ='RF2'!BB7 -> #DIV/0! | J17: =PNM!A13 -> ES ORMES - 1 | L17: =PNM!BC13 -> #DIV/0!
F18: ='RF2'!A13 -> 0 | H18: ='RF2'!BB13 -> #DIV/0! | J18: =PNM!A15 -> 0 | L18: =PNM!BC15 -> #DIV/0!
B23: RM2 | D23: Points | F23: RM3 A | H23: Points | J23: RM3 B | L23: Points
B24: ='RM2'!A6 -> IE - VINEUIL SPORTS BASKET - 2 | D24: ='RM2'!AX6 -> #DIV/0! | F24: =RM3A!A10 -> 0 | H24: =RM3A!AX10 -> #DIV/0! | J24: ='RM3 B'!A10 -> 0 | L24: ='RM3 B'!AX10 -> #DIV/0!
B25: ='RM2'!A8 -> IE-CTC CHATEAUDUN BASKET SUD 28-1 | D25: ='RM2'!AX8 -> #DIV/0! | F25: =RM3A!A7 -> ASJ LA CHAUSSEE ST VICTOR 1 | H25: =RM3A!AX7 -> #DIV/0! | J25: ='RM3 B'!A9 -> ES OESIENNE 1 | L25: ='RM3 B'!AX9 -> #DIV/0!
B26: ='RM2'!A3 -> C'CHARTRES BASKET M - 3 | D26: ='RM2'!AX3 -> #DIV/0! | F26: =RM3A!A3 -> USM OLIVET 2 | H26: =RM3A!AX3 -> #DIV/0! | J26: ='RM3 B'!A7 -> ES ORMES 2 | L26: ='RM3 B'!AX7 -> #DIV/0!
B27: ='RM2'!A13 -> AS FONDETTES 2 | D27: ='RM2'!AX13 -> #DIV/0! | F27: =RM3A!A2 -> AS JOCONDIEN 2 | H27: =RM3A!AX2 -> #DIV/0! | J27: ='RM3 B'!A3 -> ES BOURGUEIL - 1 | L27: ='RM3 B'!AX3 -> #DIV/0!
B28: ='RM2'!A7 -> AMICALE LUCE - 1 | D28: ='RM2'!AX7 -> #DIV/0! | F28: =RM3A!A6 -> LA MONTJOIE ST DENIS EN VAL 1 | H28: =RM3A!AX6 -> #DIV/0! | J28: ='RM3 B'!A4 -> IE-ADA BLOIS 41-3 | L28: ='RM3 B'!AX4 -> #DIV/0!
B29: ='RM2'!A12 -> CJF LES AUBRAIS 2 | D29: ='RM2'!AX12 -> #DIV/0! | F29: =RM3A!A8 -> IE-CTC DEOLS ETRECHET ST MAUR 1 | H29: =RM3A!AX8 -> #DIV/0! | J29: ='RM3 B'!A2 -> TRAINOU AS - 1 | L29: ='RM3 B'!AX2 -> #DIV/0!
B30: ='RM2'!A4 -> ASPTT CHATEAUROUX 1 | D30: ='RM2'!AX4 -> #DIV/0! | F30: =RM3A!A9 -> ST DOULCHARD 2 | H30: =RM3A!AX9 -> #DIV/0! | J30: ='RM3 B'!A8 -> NECOTIN BB ASSOCIATION 1 | L30: ='RM3 B'!AX8 -> #DIV/0!
B31: ='RM2'!A11 -> AMICALE NEUVILLE AUX BOIS 1 | D31: ='RM2'!AX11 -> #DIV/0! | F31: =RM3A!A5 -> CMPJM INGRE BASKET - 2 | H31: =RM3A!AX5 -> #DIV/0! | J31: ='RM3 B'!A13 -> 0 | L31: ='RM3 B'!AX13 -> #DIV/0!
B32: ='RM2'!A2 -> AS JOCONDIEN - 1 | D32: ='RM2'!AX2 -> #DIV/0! | F32: =RM3A!A4 -> AL SAINT OUEN BASKET - 1 | H32: =RM3A!AX4 -> #DIV/0! | J32: ='RM3 B'!A11 -> 0 | L32: ='RM3 B'!AX11 -> #DIV/0!
B33: ='RM2'!A10 -> US SAINT PIERRE DES CORPS - 1 | D33: ='RM2'!AX10 -> #DIV/0! | F33: =RM3A!A12 -> 0 | H33: =RM3A!AX12 -> #DIV/0! | J33: ='RM3 B'!A5 -> IE-CTC MSV BASKET TOURAINE 2 | L33: ='RM3 B'!AX5 -> #DIV/0!
B34: ='RM2'!A5 -> ORLEANS LOIRET BASKET ASSO - 3 | D34: ='RM2'!AX5 -> #DIV/0! | F34: =RM3A!A13 -> 0 | H34: =RM3A!AX13 -> #DIV/0! | J34: ='RM3 B'!A6 -> USM MONTARGIS 1 | L34: ='RM3 B'!AX6 -> #DIV/0!
B35: ='RM2'!A9 -> ALLIANCE DREUX 1 | D35: ='RM2'!AX9 -> #DIV/0! | F35: =RM3A!A11 -> 0 | H35: =RM3A!AX11 -> #DIV/0! | J35: ='RM3 B'!A12 -> 0 | L35: ='RM3 B'!AX12 -> #DIV/0!
F44: =1-(71-47)/71 -> 0.66197183
